BEGIN:VCALENDAR
PRODID:-//syracusediocese.org//
VERSION:2.0
X-WR-CALNAME:Syracuse Diocese Calendar
X-WR-CALDESC:In this calendar you will find information about events that y
 ou did save
X-WR-TIMEZONE:US/Eastern
BEGIN:VEVENT
UID:09a5f0bad578a545e6c2f6d1e7a91ff0@diocesecalendar
DTSTAMP:20260424T143555Z
CATEGORIES:Personal
CLASS:EVENT
DESCRIPTION:Steubenville Summer ConferenceJuly 10-12\, 2026 | Franciscan University of Steubenville\, Ohio&nbsp\;Join thousands of high school students across the country to have a life changing encounter with Christ at the Steubenville Summer Youth Conference! The weekend is packed with engaging sessions by nationally known presenters\, concerts\, prayer\, and more!This trip is currently full\, to register for the waitlist\, use the link below.Group Leader Registration Form.Open to youth entering 9th grade in the fall through graduating 12th grade.Cost is $295 per participant.\n
DTSTART:20260710T
DTEND:20260712T
LOCATION:
SUMMARY:Steubenville Summer Conference 2026
TRANSP:TRANSPARENT
END:VEVENT
END:VCALENDAR