BEGIN:VCALENDAR
PRODID:-//syracusediocese.org//
VERSION:2.0
X-WR-CALNAME:Syracuse Diocese Calendar
X-WR-CALDESC:In this calendar you will find information about events that y
 ou did save
X-WR-TIMEZONE:US/Eastern
BEGIN:VEVENT
UID:4df3291a9367e207ed2337cccb43b711@diocesecalendar
DTSTAMP:20260423T150103Z
CATEGORIES:Personal
CLASS:EVENT
DESCRIPTION:Join us as we encounter Christ\, reflect on where He is inviting us\, and respond to Him with openness and trust. Chick-Fil-A lunch included.KEYNOTE SPEAKERS:Jim Morris\, Cindy Atkinson\, Linda PadgettPRAISE AND WORSHIP:Jeremy Boback$35.00 per ticket                       $30.00 early registration by 5/6/26.Registrations close on May 24th\, 2026.
DTSTART:20260606T093000
DTEND:20260606T160000
LOCATION:
SUMMARY:Women's Retreat - WHAT ARE YOU SEEKING?
TRANSP:TRANSPARENT
END:VEVENT
END:VCALENDAR