BEGIN:VCALENDAR
PRODID:-//syracusediocese.org//
VERSION:2.0
X-WR-CALNAME:Syracuse Diocese Calendar
X-WR-CALDESC:In this calendar you will find information about events that y
 ou did save
X-WR-TIMEZONE:US/Eastern
BEGIN:VEVENT
UID:d95f5b41d44981ccdfb628544781bae3@diocesecalendar
DTSTAMP:20260424T143436Z
CATEGORIES:Personal
CLASS:EVENT
DESCRIPTION:Calling All Students in Grades K-12!It’s time to showcase your talents at the upcoming Academic Games & Dolphin Derby! Whether you're a math whiz\, a budding artist\, a future scientist\, or a robotics engineer\, there is an event for you.Key DatesMay 4th: Registration Deadline (Pre-registration is required!)May 21st: Submissions due for Art & Writing categories.June 6th: Main Event at Le Moyne College!Event HighlightsGrades K-6: Math & Spelling tests\, Essay contests\, Art/Painting\, Music (Vocal & Instrumental)\, LEGO Robotics (Race & Maze)\, Science presentations\, Oratory\, and a special Religion project creating thank-you notes for Veterans.Grades 7-12: Original Poetry\, Short Stories\, Non-Fiction\, Digital Art & Photography\, Music performances\, Science projects\, and challenging "Meta Puzzles" for Math and Knowledge.Giving Back: The CNY Bear TeamWe are also collecting donations for the CNY Bear Team! Help us support children undergoing surgery at Golisano Children’s Hospital. Since 2011\, they have provided over 16\,000 bears to local kids.Requested Donations: Child-themed or bright-colored cotton fabric and thread to help sew bear scrubs!How to Enter:Click here to register by May 4th. Let's celebrate creativity\, effort\, and community spirit!
DTSTART:20260606T080000
DTEND:20260606T110000
LOCATION:
SUMMARY:St. Mary's Academy Presents: Academic Games and Dolphin Derby at Le Moyne College
TRANSP:TRANSPARENT
END:VEVENT
END:VCALENDAR