BEGIN:VCALENDAR
PRODID:-//syracusediocese.org//
VERSION:2.0
X-WR-CALNAME:Syracuse Diocese Calendar
X-WR-CALDESC:In this calendar you will find information about events that y
 ou did save
X-WR-TIMEZONE:US/Eastern
BEGIN:VEVENT
UID:d35560ad61213ac8e4e1bd5503cfd92c@diocesecalendar
DTSTAMP:20260423T150153Z
CATEGORIES:Personal
CLASS:EVENT
DESCRIPTION:Retrouvaille is a program for married couples that feel bored\, frustrated\, or angry in their marriage. Some experience coldness and simply shut down. Others experience conflict and arguments in their relationship. Most don’t know how to change the situation or even communicate with their spouse about it. This program has helped tens of thousands of couples experiencing marital difficulty at all levels including disillusionment and deep misery.The weekend program begins on a Friday evening and continues through late Sunday afternoon. During the weekend couples will learn how to "rediscover" each other as the word Retrouvaille means. Following the weekend\, couples will continue the weekend experience through virtual post-Retrouvaille sessions where detailed communication skills are taught. The program is completely run by volunteers who have saved their own marriages by completing the program. 
DTSTART:20260821T190000
DTEND:20260823T170000
LOCATION:
SUMMARY:Retrouvaille Weekend-A Lifeline for Married Couples
TRANSP:TRANSPARENT
END:VEVENT
END:VCALENDAR